BEGIN:VCALENDAR
VERSION:2.0
PRODID:-//GB Store - ECPv6.15.20//NONSGML v1.0//EN
CALSCALE:GREGORIAN
METHOD:PUBLISH
X-ORIGINAL-URL:https://gobaynanas.com
X-WR-CALDESC:Events for GB Store
REFRESH-INTERVAL;VALUE=DURATION:PT1H
X-Robots-Tag:noindex
X-PUBLISHED-TTL:PT1H
BEGIN:VTIMEZONE
TZID:America/Chicago
BEGIN:DAYLIGHT
TZOFFSETFROM:-0600
TZOFFSETTO:-0500
TZNAME:CDT
DTSTART:20210314T080000
END:DAYLIGHT
BEGIN:STANDARD
TZOFFSETFROM:-0500
TZOFFSETTO:-0600
TZNAME:CST
DTSTART:20211107T070000
END:STANDARD
BEGIN:DAYLIGHT
TZOFFSETFROM:-0600
TZOFFSETTO:-0500
TZNAME:CDT
DTSTART:20220313T080000
END:DAYLIGHT
BEGIN:STANDARD
TZOFFSETFROM:-0500
TZOFFSETTO:-0600
TZNAME:CST
DTSTART:20221106T070000
END:STANDARD
BEGIN:DAYLIGHT
TZOFFSETFROM:-0600
TZOFFSETTO:-0500
TZNAME:CDT
DTSTART:20230312T080000
END:DAYLIGHT
BEGIN:STANDARD
TZOFFSETFROM:-0500
TZOFFSETTO:-0600
TZNAME:CST
DTSTART:20231105T070000
END:STANDARD
END:VTIMEZONE
BEGIN:VEVENT
DTSTART;TZID=America/Chicago:20220514T050000
DTEND;TZID=America/Chicago:20220514T070000
DTSTAMP:20260422T224925
CREATED:20220504T213439Z
LAST-MODIFIED:20220505T165330Z
UID:314-1652504400-1652511600@gobaynanas.com
SUMMARY:Second Cooking Session
DESCRIPTION:Join Bay’nanas as we cook our way through the alphabet! This kids’ cooking class is brought to you by the letter P!\n \n  \nHey Parents! We know that your child’s literacy skills are a top priority for you. We also know kids can be tough cookies when it comes to practicing reading\, letters and spelling. That’s where Go Bay’nanas kids cooking classes come in! Baker Bay guides you and your child through an interactive cookbook designed to help kids practice literacy. In this session\, we’ll be focusing on the letter P and creating three easy and tasty treats: \n  \n\nBanana Pancakes\nBanana Pudding\nBanana Pops\n\nPurchase a ticket for you and your kiddo here. \nEach ticket includes: \n\nThe food that the kid and parent will prepare\,\nA kid-friendly cookbook\,\nA personalized cooking experience\, \nGift bag with some fun goodies\,\nWater and Juice.\n\n  \nThe ticket price includes one parent and one child. \nComplimentary wine is available for the parents during the session. \n  \nTickets and space are LIMITED. \n  \n*the class will take place in the Classroom. \n  \nTo stay in the loop about our upcoming events and pop-ups\, visit www.gobaynanas.com or follow us on Instagram and Facebook at @go.baynanas
URL:https://gobaynanas.com/event/second-cooking-session/
LOCATION:36 Degrees North Basecamp\, 36 E Cameron Street\, Tulsa\, OK\, 74103\, United States
CATEGORIES:All Events,Cooking Classes
ATTACH;FMTTYPE=image/jpeg:https://gobaynanas.com/wp-content/uploads/2022/05/GB_May14_2022Event-scaled.jpg
ORGANIZER;CN="Go Bay'nanas":MAILTO:info@gobaynanas.com
END:VEVENT
END:VCALENDAR