BEGIN:VCALENDAR
VERSION:2.0
PRODID:-//GB Store - ECPv6.15.20//NONSGML v1.0//EN
CALSCALE:GREGORIAN
METHOD:PUBLISH
X-WR-CALNAME:GB Store
X-ORIGINAL-URL:http://gobaynanas.com
X-WR-CALDESC:Events for GB Store
REFRESH-INTERVAL;VALUE=DURATION:PT1H
X-Robots-Tag:noindex
X-PUBLISHED-TTL:PT1H
BEGIN:VTIMEZONE
TZID:America/Chicago
BEGIN:DAYLIGHT
TZOFFSETFROM:-0600
TZOFFSETTO:-0500
TZNAME:CDT
DTSTART:20230312T080000
END:DAYLIGHT
BEGIN:STANDARD
TZOFFSETFROM:-0500
TZOFFSETTO:-0600
TZNAME:CST
DTSTART:20231105T070000
END:STANDARD
BEGIN:DAYLIGHT
TZOFFSETFROM:-0600
TZOFFSETTO:-0500
TZNAME:CDT
DTSTART:20240310T080000
END:DAYLIGHT
BEGIN:STANDARD
TZOFFSETFROM:-0500
TZOFFSETTO:-0600
TZNAME:CST
DTSTART:20241103T070000
END:STANDARD
BEGIN:DAYLIGHT
TZOFFSETFROM:-0600
TZOFFSETTO:-0500
TZNAME:CDT
DTSTART:20250309T080000
END:DAYLIGHT
BEGIN:STANDARD
TZOFFSETFROM:-0500
TZOFFSETTO:-0600
TZNAME:CST
DTSTART:20251102T070000
END:STANDARD
END:VTIMEZONE
BEGIN:VEVENT
DTSTART;TZID=America/Chicago:20240217T110000
DTEND;TZID=America/Chicago:20240217T160000
DTSTAMP:20260421T044625
CREATED:20240207T063836Z
LAST-MODIFIED:20240207T063836Z
UID:711-1708167600-1708185600@gobaynanas.com
SUMMARY:The Jane A Malone Center in Chamberlain Park's Black Culture Extravaganza II
DESCRIPTION:Saturday February 17th 12:00pm indulge your taste buds and celebrate the culinary wonders of our community at the JAMC Food Festival. This delectable event is a feast for the senses\, featuring a wide array of cuisines\, local delicacies\, and international flavors that will delight food enthusiasts of all ages.\n\nStarting a 1:00pm we honor the history\, heritage\, and contributions of the Black community. This extraordinary event promises to be a powerful and vibrant showcase of art\, music\, dance\, food and history that will leave you inspired and uplifted.\n\nOur Black Culture Extravaganza is a day of unity\, enlightenment\, and celebration. Save the date and join us for an unforgettable experience that pays tribute to the vibrant and influential Black Culture. Together\, we’ll explore\, appreciate\, and celebrate the artistry\, resilience\, and beauty of Black history and heritage. Don’t miss this extraordinary event!
URL:http://gobaynanas.com/event/the-jane-a-malone-center-in-chamberlain-parks-black-culture-extravaganza-ii/
LOCATION:Jane A. Malone Center in Chamberlain Park\, 4940 N. Frankfort Ave.\, Tulsa\, OK\, 74126\, United States
CATEGORIES:Pop-up Events
END:VEVENT
END:VCALENDAR