BEGIN:VCALENDAR
VERSION:2.0
PRODID:-//GB Store - ECPv6.15.20//NONSGML v1.0//EN
CALSCALE:GREGORIAN
METHOD:PUBLISH
X-WR-CALNAME:GB Store
X-ORIGINAL-URL:http://gobaynanas.com
X-WR-CALDESC:Events for GB Store
REFRESH-INTERVAL;VALUE=DURATION:PT1H
X-Robots-Tag:noindex
X-PUBLISHED-TTL:PT1H
BEGIN:VTIMEZONE
TZID:America/Chicago
BEGIN:DAYLIGHT
TZOFFSETFROM:-0600
TZOFFSETTO:-0500
TZNAME:CDT
DTSTART:20210314T080000
END:DAYLIGHT
BEGIN:STANDARD
TZOFFSETFROM:-0500
TZOFFSETTO:-0600
TZNAME:CST
DTSTART:20211107T070000
END:STANDARD
BEGIN:DAYLIGHT
TZOFFSETFROM:-0600
TZOFFSETTO:-0500
TZNAME:CDT
DTSTART:20220313T080000
END:DAYLIGHT
BEGIN:STANDARD
TZOFFSETFROM:-0500
TZOFFSETTO:-0600
TZNAME:CST
DTSTART:20221106T070000
END:STANDARD
BEGIN:DAYLIGHT
TZOFFSETFROM:-0600
TZOFFSETTO:-0500
TZNAME:CDT
DTSTART:20230312T080000
END:DAYLIGHT
BEGIN:STANDARD
TZOFFSETFROM:-0500
TZOFFSETTO:-0600
TZNAME:CST
DTSTART:20231105T070000
END:STANDARD
END:VTIMEZONE
BEGIN:VEVENT
DTSTART;TZID=America/Chicago:20220505T140000
DTEND;TZID=America/Chicago:20220505T160000
DTSTAMP:20260422T112949
CREATED:20220505T162456Z
LAST-MODIFIED:20220505T162456Z
UID:328-1651759200-1651766400@gobaynanas.com
SUMMARY:Idea Accelerator Capstone
DESCRIPTION:An idea is exactly what the Tulsa Builders started with. And doing something about it is exactly what they have tackled over the past three months. \nThey’ve learned how to unpack a problem\, refine their ideas\, and design and execute a rapid\, low-cost way to test their idea. \nJoin us\, our program partner Heartland Forward and local sponsor George Kaiser Family Foundation to meet the Tulsa Builders\, learn more about the endeavors\, ventures and businesses these ideas are developing into and to celebrate their hard work and future potential. \nThe event will also feature a fireside chat with Builders + Backers Founder\, renowned venture capital investor\, and entrepreneurial development expert\, Donna Harris. \nThe doors open at 6:45 pm and we’ll enjoy light food and refreshments. Space is limited so please reserve your spot today.
URL:http://gobaynanas.com/event/idea-accelerator-capstone/
LOCATION:36 Degrees North Basecamp\, 36 E Cameron Street\, Tulsa\, OK\, 74103\, United States
CATEGORIES:All Events,General Events
ATTACH;FMTTYPE=image/jpeg:http://gobaynanas.com/wp-content/uploads/2022/05/https-cdn.evbuc_.com-images-263571629-378150330753-1-original.20220408-205650.jpeg
END:VEVENT
END:VCALENDAR